BEGIN:VCALENDAR
VERSION:2.0
PRODID:-//Giardino forbito - ECPv6.15.20//NONSGML v1.0//EN
CALSCALE:GREGORIAN
METHOD:PUBLISH
X-WR-CALNAME:Giardino forbito
X-ORIGINAL-URL:https://www.giardinoforbito.it
X-WR-CALDESC:Eventi per Giardino forbito
REFRESH-INTERVAL;VALUE=DURATION:PT1H
X-Robots-Tag:noindex
X-PUBLISHED-TTL:PT1H
BEGIN:VTIMEZONE
TZID:Europe/Rome
BEGIN:DAYLIGHT
TZOFFSETFROM:+0100
TZOFFSETTO:+0200
TZNAME:CEST
DTSTART:20250330T010000
END:DAYLIGHT
BEGIN:STANDARD
TZOFFSETFROM:+0200
TZOFFSETTO:+0100
TZNAME:CET
DTSTART:20251026T010000
END:STANDARD
BEGIN:DAYLIGHT
TZOFFSETFROM:+0100
TZOFFSETTO:+0200
TZNAME:CEST
DTSTART:20260329T010000
END:DAYLIGHT
BEGIN:STANDARD
TZOFFSETFROM:+0200
TZOFFSETTO:+0100
TZNAME:CET
DTSTART:20261025T010000
END:STANDARD
BEGIN:DAYLIGHT
TZOFFSETFROM:+0100
TZOFFSETTO:+0200
TZNAME:CEST
DTSTART:20270328T010000
END:DAYLIGHT
BEGIN:STANDARD
TZOFFSETFROM:+0200
TZOFFSETTO:+0100
TZNAME:CET
DTSTART:20271031T010000
END:STANDARD
END:VTIMEZONE
BEGIN:VEVENT
DTSTART;VALUE=DATE:20260509
DTEND;VALUE=DATE:20260511
DTSTAMP:20260424T115252
CREATED:20260318T161129Z
LAST-MODIFIED:20260416T110205Z
UID:11886-1778284800-1778457599@www.giardinoforbito.it
SUMMARY:(9 - 10 Maggio) Fiorile - Orti & Fiori in Mostra 2026
DESCRIPTION:09/05/2026 – 10/05/2026 (10:00 – 18:00)\n \nProgramma\nsabato 9 maggio\n\n10:00 Inizio Manifestazione\n10:30 Sport Camp al Bosco del Re – a cura di Agricampus del Cammino delle Colline Torinesi\n11:00 Corso pratico Mamma ti faccio un mazzo così di rose!\n11:30 Presentazione La fatica non fa rumore di Gabriele Scapola – Graffio editore\n12:30 Intermezzi musicali a cura di Tony Gerasymov\n13:00 Pausa degustativa – in collaborazione con La Cadrega e Slowfood\n14:30 Rose e Giardini Storici con Alessia Bellone\, Maurizio Feletig e Riccardo Vitale\n15.30 Laboratorio con Beesù\n16:00 Slow drink cocktail botanici con Marco Gramaglia\, Maestro di Giardino e Roberto Sambo referente Slowfood\n17:00 Intermezzo musicale con ANIMA-L di e con Linda Messerklinger\n18.00 Aperitivo botanico al Giardino delle Rose\n\ndomenica 10 maggio\n\n10:00 Inizio Manifestazione\n10.30 Camp Outdoor – passeggiata Immersiva con Nordic Walking\n11:00 Corso pratico Mamma ti faccio un mazzo così di rose!\n11:30 Presentazione della guida Superga e i suoi sentieri di Claudio Baldi – Terre di Mezzo\n12:30 Intermezzi musicali a cura di Rania Khazour\n13:00 Pausa degustativa – in collaborazione con La Cadrega\n15.30 Corso di ricamo creativo con Orso\n18:00 Saluti di chiusura\n\nNuovissima edizione per Fiorile – Orti & Fiori in mostra – Speciale Rosa che cambia sede e si sposta nel cuore storico della Città.\nE\, in collaborazione e partecipazione con il Mercato della Terra Slow Food\, si propone così una mostra mercato sempre più nel nome dell’eccellenza\, dall’orto al vivaio\, dalla maestria artigiana alle specialità del nostro territorio.\nCome consuetudine Fiorile si accosta al Premio della Rosa Principessa Maria Letizia di Savoia\, a cura dell’associazione Kores e del Premio Rosa d’Oro\, a cura dell’Assessorato Cultura e Pari Opportunità\, con una grande manifestazione condivisa che integra mondi della natura e della cultura\, del verde e del rosa in tutte le declinazioni. \nNelle giornate del 9 e 10 maggio un accurato allestimento animerà la storica piazza comunale Vittorio Emanuele II a Moncalieri con la magia scenografica di vivaisti specializzati – tra cui splenderanno le rose antiche del Maestro del Giardino Maurizio Feletig – produttori agricoli e del gusto\, tra cui i miglior presidi Slow Food\, artigiani e designer con una kermesse volta al racconto della stagionalità e della bellezza\, attraverso un ricco programma denso di incontri con esperti del settore e attività correlate al verde\, al giardinaggio e all’orticoltura\, con inserti didattici dedicati al tema della biodiversità e della sostenibilità oltre ad appuntamenti culturali\, workshop\, musica e letture.\nUn weekend\, dunque\, all’insegna della creatività per grandi e per piccini\, con un principale importante focus: la scoperta e la festa del territorio con gli strumenti di un format che coniuga politiche ambientali e culturali insieme\, in linea con le strategie contenute nel progetto Moncalieri Città nel Verde. \nLa manifestazione Fiorile – Orti e Fiori in mostra\, orgogliosa riproposta di un antico mercato moncalierese di piazza giunta alla XII edizione\, contribuisce e partecipa anche quest’anno alla costruzione dell’immagine identitaria del territorio delle Aree Protette del Po\, della Collina Torinese e degli 85 Comuni coinvolti\, diventato Riserva MAB nel 2016\, con una programmazione focalizzata su elementi di interesse naturalistico e culturale insieme. \nTra gli espositori da menzionare:\n\nVivaisti: Azienda Agricola Maurizio Feletig (rose bacche\, arbusti da bacche)\, Vivaio Soria (rose e astromelie) Vivaio Marino (alberi da frutta)\, l’Emporio di Asia (palme\, agrumi\, oleandri)\, Desert Style (piante grasse)\, Azienda Agricola Beccher (perenni)\, Fratelli GRAMAGLIA (erbe aromatiche)\, AB Terrarium (terrari).\nProduttori agricoli: La cucina di Annalisa (biscotti\, meringhe\,torte alla rosa) ROERO VERO (miele presidio slowfood e nocciole)\, Azienda Agricola La Margherita (vino del Roero) \, Viva l’oliva (olive e derivati)\, Azienda Agricola Ardizzina (riso\, farine\, caffè di riso)\, Fruttati frutti e composte (composte e succhi di frutta)\, Le Tome di Villa (tome della Val Chiusella)\, Distillerie Marchisio (distillati e grappe alla rosa e altro)\, MIeTI (uova presidi slowfood).\nArtigiani: Chiara Rosino (Lavorazioni artigianali in vetro e metallo)\, Guido Faletti (ceramista)\, Chiara Carraro\, Des etoiles ples les yeux\, “Le creazioni di Giancarlo” di Grillo Giancarlo (manufatti per parchi e giardini in legno in legno)\, Infeltriscimi (Infeltriscimi – infeltriscimi Feltro artigianale)\, Angela Mina (cesti di vimini)\, Asinerie des Alpes (cosmetica con latte d’asina e lavanda)\, Coùrtesia laboratorio naturale (saponi e cosmesi naturale)\, A tempo di un fiorellino (bijoux tema floreale)\, Naturalia (tintura naturale e stampe botaniche)\n\n  \nSeguendo perciò il filo della continua riscoperta del territorio moncalierese una programmazione sarà dedicata completamente all’outdoor e alle attività all’aria aperta. Continuano così le passeggiate immersive e il progetto “Cammina Moncalieri” con i percorsi realizzati in collaborazione con Agricampus del Cammino delle Colline Torinesi che\, questa volta porteranno dal Centro città al Bosco del Re alla scoperta di un Camp dedicato all’Outdoor dedicato ai tanti sport e passatempi possibili all’aria aperta.\nCome sempre non mancheranno momenti dedicati ai libri e alla divulgazione con particolare attenzione a pubblicazioni legate al territorio\, compreso quello censito da Slow food; sottofondi musicali d’atmosfera musicale con uno speciale appuntamento a cura di Linda Messerklinger. \nLa Festa della Mamma sarà nuovamente celebrata con il corso pratico a cura di Cinzia Scanavacca e Nadia Danzero “Mamma ti faccio un mazzo così di rose”\, piccoli uomini crescono gentili.\nA contorno e sempre in tema di ecosistemi e biodiversità\, il corner didattico curato dagli Impollinatori metropolitani e da Beesù\, rappresenterà il meraviglioso e necessario mondo delle api\, approfondendo la vita dei loro ecosistemi e l’operosità del loro mondo\, e\, in occasione della festa della mamma\, i laboratori saranno dedicati alla realizzazione del regalo più fiorito e più bello. \nL’atmosfera sarà allietata da vari intermezzi musicali! \nDichiara l’Assessora Antonella Parigi:\n“Il Premio della rosa e Fiorile sono due momenti importanti della programmazione culturale di Moncalieri. In particolare quest’anno abbiamo voluto dare risalto al Premio della rosa\, che ci permette di creare un legame fondamentale con la storia\, il castello di Moncalieri e il territorio con la sua tradizione florovivaistica. La Principessa Maria Letizia di Savoia rappresenta una figura d’ispirazione straordinaria capace di trasformare il passato in patrimonio del futuro. Proprio per questo abbiamo aggiunto una sezione al Premio della rosa\, Il Premio della rosa d’oro\, dedicato a una donna che nella contemporaneità si sia dedicata a sostenere altre donne.” \n  \nSCOPRI LA GALLERY DELL’EVENTO DEL 2025!
URL:https://www.giardinoforbito.it/evento/9-10-maggio-fiorile-orti-fiori-in-mostra-2026/
LOCATION:Piazza Vittorio Emanuele Moncalieri\, Piazza Vittorio Emanuele II\, Moncalieri TO\, Italia\, 10024\, Italy
CATEGORIES:Fiorile - Orti & Fiori in Mostra
ATTACH;FMTTYPE=image/webp:https://www.giardinoforbito.it/wp-content/uploads/28-09052026-10062026-locandina-Fiorile-16-9.webp
END:VEVENT
END:VCALENDAR