BEGIN:VCALENDAR
VERSION:2.0
PRODID:-//Giardino forbito - ECPv6.15.20//NONSGML v1.0//EN
CALSCALE:GREGORIAN
METHOD:PUBLISH
X-WR-CALNAME:Giardino forbito
X-ORIGINAL-URL:https://www.giardinoforbito.it
X-WR-CALDESC:Eventi per Giardino forbito
REFRESH-INTERVAL;VALUE=DURATION:PT1H
X-Robots-Tag:noindex
X-PUBLISHED-TTL:PT1H
BEGIN:VTIMEZONE
TZID:Europe/Rome
BEGIN:DAYLIGHT
TZOFFSETFROM:+0100
TZOFFSETTO:+0200
TZNAME:CEST
DTSTART:20250330T010000
END:DAYLIGHT
BEGIN:STANDARD
TZOFFSETFROM:+0200
TZOFFSETTO:+0100
TZNAME:CET
DTSTART:20251026T010000
END:STANDARD
BEGIN:DAYLIGHT
TZOFFSETFROM:+0100
TZOFFSETTO:+0200
TZNAME:CEST
DTSTART:20260329T010000
END:DAYLIGHT
BEGIN:STANDARD
TZOFFSETFROM:+0200
TZOFFSETTO:+0100
TZNAME:CET
DTSTART:20261025T010000
END:STANDARD
BEGIN:DAYLIGHT
TZOFFSETFROM:+0100
TZOFFSETTO:+0200
TZNAME:CEST
DTSTART:20270328T010000
END:DAYLIGHT
BEGIN:STANDARD
TZOFFSETFROM:+0200
TZOFFSETTO:+0100
TZNAME:CET
DTSTART:20271031T010000
END:STANDARD
END:VTIMEZONE
BEGIN:VEVENT
DTSTART;TZID=Europe/Rome:20260425T160000
DTEND;TZID=Europe/Rome:20260425T170000
DTSTAMP:20260424T120623
CREATED:20260420T143921Z
LAST-MODIFIED:20260420T143921Z
UID:12646-1777132800-1777136400@www.giardinoforbito.it
SUMMARY:Pilates - 25/04
DESCRIPTION:25/04/2026 (16:00 – 17:00)\n \nUn’ora di benessere immersi nel verde: partecipa alla lezione di Pilates ai Giardini Sambuy\, in Piazza Carlo Felice. Sabato 25 aprile\, dalle 16 alle 17\, lasciati guidare da Barbara in un’attività adatta a tutti i livelli\, ideale per ritrovare equilibrio\, forza e relax. \nLa lezione è gratuita e aperta a tutti.\nPer chi lo desidera\, al termine sarà possibile gustare una merenda con prodotti tipici del territorio al costo di €5. \n*È necessario portare con sé tappetino e asciugamano.*\nPosti limitati (max 15 partecipanti).\nPrenotazione al numero +39 320 4956646
URL:https://www.giardinoforbito.it/evento/pilates-25-04/
LOCATION:Gazebo forbito Sambuy\, Piazza Carlo Felice 67/D\, Torino TO\, Italia\, 10123\, Italy
CATEGORIES:Gazebo forbito Sambuy
ATTACH;FMTTYPE=image/webp:https://www.giardinoforbito.it/wp-content/uploads/36-25042026-locandina-Pilates-16-9.webp
END:VEVENT
BEGIN:VEVENT
DTSTART;TZID=Europe/Rome:20260429T110000
DTEND;TZID=Europe/Rome:20260429T160000
DTSTAMP:20260424T120623
CREATED:20260324T170343Z
LAST-MODIFIED:20260324T170343Z
UID:12143-1777460400-1777478400@www.giardinoforbito.it
SUMMARY:Il mercoledì del gioco - 29/04
DESCRIPTION:29/04/2026 (11:00 – 16:00)\n \nNasce il MERCOLEDÌ DEL GIOCO al Gazebo forbito Sambuy\nOgni mercoledì dalle ore 11 il Gazebo diventa uno spazio dedicato al gioco\, alla mente e alla convivialità. Un appuntamento fisso per chi ama sfidarsi\, imparare\, condividere e – perché no – scoprire nuove passioni. \nTra i protagonisti di questa nuova ricorrenza:\n– A cura di Jenaro Melendrez Chas\, artista attivo a Torino dagli anni ’90\, già condirettore artistico della Rassegna Internazionale di Teatro di Figura “Incanti”. Ha esposto alla Galleria “La Bussola”\, al Giardino delle Rose del Castello di Moncalieri\, da Tramezzino Torino\, allo Spazio Antro\, alla libreria OOLP e in altri spazi cittadini.\nLe sue ultime creazioni sono mini quadri componibili ispirati all’antico gioco cinese Huarong\, da cui nasce l’iniziativa intitolata “SFIDA GAZEBO”.\n– Maurizio D’Agostino\, maestro scacchista attivo: gioca tornei da quando aveva 12 anni\, è iscritto a diversi circoli di Torino e non solo\, continua a competere per passione e ama trasmettere il suo sapere ai nuovi apprendisti. Di recente ha partecipato al 67° Festival di Imperia\, al 30° Festival città di Palermo\, al 3° We Piacenza Chess Festival e tanti altri. Un’occasione preziosa per avvicinarsi agli scacchi o perfezionare la propria strategia. \nGiochi previsti:\n– Backgammon\n– Scacchi & dama\n– Parchís\n– “Sfida Gazebo”\n– Tornei di Burraco\n– Tornei di Bridge \nIl Gazebo forbito Sambuy si conferma così luogo emblematico di incontro\, cultura e socialità\, dove il gioco diventa linguaggio universale tra generazioni.\nVieni a giocare. Vieni a sfidarti. Vieni a condividere! \n– DOVE : Gazebo forbito Sambuy\n– QUANDO: 29/04/2026 dalle 11:00 alle 16:00
URL:https://www.giardinoforbito.it/evento/il-mercoledi-del-gioco-29-04/
LOCATION:Gazebo forbito Sambuy\, Piazza Carlo Felice 67/D\, Torino TO\, Italia\, 10123\, Italy
CATEGORIES:Gazebo forbito Sambuy
ATTACH;FMTTYPE=image/webp:https://www.giardinoforbito.it/wp-content/uploads/locandina-generica-Mercoledi-del-gioco-16-9.webp
END:VEVENT
BEGIN:VEVENT
DTSTART;TZID=Europe/Rome:20260429T143000
DTEND;TZID=Europe/Rome:20260429T180000
DTSTAMP:20260424T120623
CREATED:20260407T091512Z
LAST-MODIFIED:20260407T091512Z
UID:12244-1777473000-1777485600@www.giardinoforbito.it
SUMMARY:Torneo di Scacchi - 29/04
DESCRIPTION:29/04/2026 (14:30 – 18:00)
URL:https://www.giardinoforbito.it/evento/torneo-di-scacchi-29-04/
LOCATION:Gazebo forbito Sambuy\, Piazza Carlo Felice 67/D\, Torino TO\, Italia\, 10123\, Italy
CATEGORIES:Gazebo forbito Sambuy
ATTACH;FMTTYPE=image/webp:https://www.giardinoforbito.it/wp-content/uploads/32-29042026-locandina-Torneo-di-Scacchi-16-9.webp
END:VEVENT
END:VCALENDAR