BEGIN:VCALENDAR
VERSION:2.0
PRODID:-//Giardino forbito - ECPv6.15.20//NONSGML v1.0//EN
CALSCALE:GREGORIAN
METHOD:PUBLISH
X-ORIGINAL-URL:https://www.giardinoforbito.it
X-WR-CALDESC:Eventi per Giardino forbito
REFRESH-INTERVAL;VALUE=DURATION:PT1H
X-Robots-Tag:noindex
X-PUBLISHED-TTL:PT1H
BEGIN:VTIMEZONE
TZID:Europe/Rome
BEGIN:DAYLIGHT
TZOFFSETFROM:+0100
TZOFFSETTO:+0200
TZNAME:CEST
DTSTART:20250330T010000
END:DAYLIGHT
BEGIN:STANDARD
TZOFFSETFROM:+0200
TZOFFSETTO:+0100
TZNAME:CET
DTSTART:20251026T010000
END:STANDARD
BEGIN:DAYLIGHT
TZOFFSETFROM:+0100
TZOFFSETTO:+0200
TZNAME:CEST
DTSTART:20260329T010000
END:DAYLIGHT
BEGIN:STANDARD
TZOFFSETFROM:+0200
TZOFFSETTO:+0100
TZNAME:CET
DTSTART:20261025T010000
END:STANDARD
BEGIN:DAYLIGHT
TZOFFSETFROM:+0100
TZOFFSETTO:+0200
TZNAME:CEST
DTSTART:20270328T010000
END:DAYLIGHT
BEGIN:STANDARD
TZOFFSETFROM:+0200
TZOFFSETTO:+0100
TZNAME:CET
DTSTART:20271031T010000
END:STANDARD
END:VTIMEZONE
BEGIN:VEVENT
DTSTART;TZID=Europe/Rome:20260510T100000
DTEND;TZID=Europe/Rome:20260510T180000
DTSTAMP:20260424T102250
CREATED:20260223T140137Z
LAST-MODIFIED:20260223T140137Z
UID:11282-1778407200-1778436000@www.giardinoforbito.it
SUMMARY:Googreen Mercato della Biodiversità
DESCRIPTION:10/05/2026 (10:00 – 18:00)\nVi aspettiamo ogni seconda domenica del mese per il Mercato della Biodiversità Googreen! Ingresso libero!
URL:https://www.giardinoforbito.it/evento/googreen-mercato-della-biodiversita-3/
LOCATION:Giardino Sambuy\, Piazza Carlo Felice\, Torino TO\, Italia\, 10123\, Italy
CATEGORIES:Mercato della biodiversità Googreen
ATTACH;FMTTYPE=image/webp:https://www.giardinoforbito.it/wp-content/uploads/locandina-generica-mercato-Googreen-16-9.webp
END:VEVENT
BEGIN:VEVENT
DTSTART;TZID=Europe/Rome:20260913T100000
DTEND;TZID=Europe/Rome:20260913T180000
DTSTAMP:20260424T102250
CREATED:20260223T140557Z
LAST-MODIFIED:20260223T140944Z
UID:11287-1789293600-1789322400@www.giardinoforbito.it
SUMMARY:Googreen Mercato della Biodiversità
DESCRIPTION:13/09/2026 (10:00 – 18:00)\nVi aspettiamo ogni seconda domenica del mese per il Mercato della Biodiversità Googreen! Ingresso libero!
URL:https://www.giardinoforbito.it/evento/googreen-mercato-della-biodiversita-4/
LOCATION:Giardino Sambuy\, Piazza Carlo Felice\, Torino TO\, Italia\, 10123\, Italy
CATEGORIES:Mercato della biodiversità Googreen
ATTACH;FMTTYPE=image/webp:https://www.giardinoforbito.it/wp-content/uploads/locandina-generica-mercato-Googreen-16-9.webp
END:VEVENT
BEGIN:VEVENT
DTSTART;TZID=Europe/Rome:20261011T100000
DTEND;TZID=Europe/Rome:20261011T180000
DTSTAMP:20260424T102250
CREATED:20260223T140921Z
LAST-MODIFIED:20260223T140921Z
UID:11290-1791712800-1791741600@www.giardinoforbito.it
SUMMARY:Googreen Mercato della Biodiversità
DESCRIPTION:11/10/2026 (10:00 – 18:00)\nVi aspettiamo ogni seconda domenica del mese per il Mercato della Biodiversità Googreen! Ingresso libero!
URL:https://www.giardinoforbito.it/evento/googreen-mercato-della-biodiversita-5/
LOCATION:Giardino Sambuy\, Piazza Carlo Felice\, Torino TO\, Italia\, 10123\, Italy
CATEGORIES:Mercato della biodiversità Googreen
ATTACH;FMTTYPE=image/webp:https://www.giardinoforbito.it/wp-content/uploads/locandina-generica-mercato-Googreen-16-9.webp
END:VEVENT
BEGIN:VEVENT
DTSTART;TZID=Europe/Rome:20261108T100000
DTEND;TZID=Europe/Rome:20261108T180000
DTSTAMP:20260424T102250
CREATED:20260223T141143Z
LAST-MODIFIED:20260223T141504Z
UID:11295-1794132000-1794160800@www.giardinoforbito.it
SUMMARY:Googreen Mercato della Biodiversità
DESCRIPTION:08/11/2026 (10:00 – 18:00)\nVi aspettiamo ogni seconda domenica del mese per il Mercato della Biodiversità Googreen! Ingresso libero!
URL:https://www.giardinoforbito.it/evento/googreen-mercato-della-biodiversita-6/
LOCATION:Giardino Sambuy\, Piazza Carlo Felice\, Torino TO\, Italia\, 10123\, Italy
CATEGORIES:Mercato della biodiversità Googreen
ATTACH;FMTTYPE=image/webp:https://www.giardinoforbito.it/wp-content/uploads/locandina-generica-mercato-Googreen-16-9.webp
END:VEVENT
BEGIN:VEVENT
DTSTART;TZID=Europe/Rome:20261213T100000
DTEND;TZID=Europe/Rome:20261213T180000
DTSTAMP:20260424T102250
CREATED:20260223T141414Z
LAST-MODIFIED:20260318T160744Z
UID:11298-1797156000-1797184800@www.giardinoforbito.it
SUMMARY:Googreen Mercato della Biodiversità
DESCRIPTION:13/12/2026 (10:00 – 18:00)\nVi aspettiamo ogni seconda domenica del mese per il Mercato della Biodiversità Googreen! Ingresso libero!
URL:https://www.giardinoforbito.it/evento/googreen-mercato-della-biodiversita-7/
LOCATION:Giardino Sambuy\, Piazza Carlo Felice\, Torino TO\, Italia\, 10123\, Italy
CATEGORIES:Mercato della biodiversità Googreen
ATTACH;FMTTYPE=image/webp:https://www.giardinoforbito.it/wp-content/uploads/locandina-generica-mercato-Googreen-16-9.webp
END:VEVENT
END:VCALENDAR